Package: ccrepe Version: 1.38.0 Command: /home/biocbuild/R/R-4.3.1/bin/R CMD build --keep-empty-dirs --no-resave-data ccrepe StartedAt: 2023-11-01 23:05:11 -0000 (Wed, 01 Nov 2023) EndedAt: 2023-11-01 23:05:22 -0000 (Wed, 01 Nov 2023) EllapsedTime: 11.0 seconds RetCode: 0 Status: OK PackageFile: ccrepe_1.38.0.tar.gz PackageFileSize: 292.9 KiB