Package: ccfindR Version: 1.22.0 Command: chmod a+r ccfindR -R && F:\biocbuild\bbs-3.18-bioc\R\bin\R.exe CMD build --keep-empty-dirs --no-resave-data ccfindR StartedAt: 2024-04-15 17:26:57 -0400 (Mon, 15 Apr 2024) EndedAt: 2024-04-15 17:32:13 -0400 (Mon, 15 Apr 2024) EllapsedTime: 315.3 seconds RetCode: 0 Status: OK PackageFile: ccfindR_1.22.0.tar.gz PackageFileSize: 758.7 KiB