Package: ccfindR Version: 1.22.0 Command: /Library/Frameworks/R.framework/Resources/bin/R CMD INSTALL ccfindR StartedAt: 2024-04-15 15:38:16 -0400 (Mon, 15 Apr 2024) EndedAt: 2024-04-15 15:38:22 -0400 (Mon, 15 Apr 2024) EllapsedTime: 6.5 seconds RetCode: 1 Status: ERROR