Package: ccfindR Version: 1.22.0 Command: /home/biocbuild/R/R-4.3.1/bin/R CMD build --keep-empty-dirs --no-resave-data ccfindR StartedAt: 2023-11-01 23:03:59 -0000 (Wed, 01 Nov 2023) EndedAt: 2023-11-01 23:10:21 -0000 (Wed, 01 Nov 2023) EllapsedTime: 382.5 seconds RetCode: 0 Status: OK PackageFile: ccfindR_1.22.0.tar.gz PackageFileSize: 1.153 MiB