Package: cbpManager Version: 1.10.0 Command: F:\biocbuild\bbs-3.18-bioc\R\bin\R.exe CMD check --no-multiarch --install=check:cbpManager.install-out.txt --library=F:\biocbuild\bbs-3.18-bioc\R\library --no-vignettes --timings cbpManager_1.10.0.tar.gz StartedAt: 2024-04-15 23:03:53 -0400 (Mon, 15 Apr 2024) EndedAt: 2024-04-15 23:05:20 -0400 (Mon, 15 Apr 2024) EllapsedTime: 87.5 seconds RetCode: 0 Status: WARNINGS CheckDir: cbpManager.Rcheck Warnings: 1