Package: cbpManager Version: 1.10.0 Command: /home/biocbuild/bbs-3.18-bioc/R/bin/R CMD check --install=check:cbpManager.install-out.txt --library=/home/biocbuild/bbs-3.18-bioc/R/site-library --timings cbpManager_1.10.0.tar.gz StartedAt: 2024-04-15 20:55:24 -0400 (Mon, 15 Apr 2024) EndedAt: 2024-04-15 20:56:26 -0400 (Mon, 15 Apr 2024) EllapsedTime: 61.7 seconds RetCode: 0 Status: WARNINGS CheckDir: cbpManager.Rcheck Warnings: 1