Package: categoryCompare Version: 1.46.0 Command: chmod a+r categoryCompare -R && F:\biocbuild\bbs-3.18-bioc\R\bin\R.exe CMD build --keep-empty-dirs --no-resave-data categoryCompare StartedAt: 2024-04-15 17:26:18 -0400 (Mon, 15 Apr 2024) EndedAt: 2024-04-15 17:29:46 -0400 (Mon, 15 Apr 2024) EllapsedTime: 207.6 seconds RetCode: 0 Status: OK PackageFile: categoryCompare_1.46.0.tar.gz PackageFileSize: 3.162 MiB