Package: casper Version: 2.36.0 Command: /home/biocbuild/R/R-4.3.1/bin/R CMD INSTALL casper StartedAt: 2023-11-01 20:48:51 -0000 (Wed, 01 Nov 2023) EndedAt: 2023-11-01 20:50:28 -0000 (Wed, 01 Nov 2023) EllapsedTime: 97.6 seconds RetCode: 0 Status: OK