Package: casper Version: 2.36.0 Command: /home/biocbuild/R/R-4.3.1/bin/R CMD build --keep-empty-dirs --no-resave-data casper StartedAt: 2023-11-01 23:01:31 -0000 (Wed, 01 Nov 2023) EndedAt: 2023-11-01 23:03:29 -0000 (Wed, 01 Nov 2023) EllapsedTime: 118.1 seconds RetCode: 0 Status: OK PackageFile: casper_2.36.0.tar.gz PackageFileSize: 2.256 MiB