Package: cardelino Version: 1.4.0 Command: chmod a+r cardelino -R && F:\biocbuild\bbs-3.18-bioc\R\bin\R.exe CMD build --keep-empty-dirs --no-resave-data cardelino StartedAt: 2024-04-15 17:25:30 -0400 (Mon, 15 Apr 2024) EndedAt: 2024-04-15 17:27:17 -0400 (Mon, 15 Apr 2024) EllapsedTime: 106.9 seconds RetCode: 0 Status: OK PackageFile: cardelino_1.4.0.tar.gz PackageFileSize: 3.095 MiB