Package: cardelino Version: 1.4.0 Command: /home/biocbuild/bbs-3.18-bioc/R/bin/R CMD INSTALL cardelino StartedAt: 2024-04-15 15:40:22 -0400 (Mon, 15 Apr 2024) EndedAt: 2024-04-15 15:41:08 -0400 (Mon, 15 Apr 2024) EllapsedTime: 46.6 seconds RetCode: 0 Status: OK