Package: cardelino Version: 1.4.0 Command: /Library/Frameworks/R.framework/Resources/bin/R CMD build --keep-empty-dirs --no-resave-data cardelino StartedAt: 2024-04-15 17:26:58 -0400 (Mon, 15 Apr 2024) EndedAt: 2024-04-15 17:29:53 -0400 (Mon, 15 Apr 2024) EllapsedTime: 175.0 seconds RetCode: 0 Status: OK PackageFile: cardelino_1.4.0.tar.gz PackageFileSize: 3.704 MiB