Package: cancerclass Version: 1.46.0 Command: rm -rf cancerclass.buildbin-libdir && mkdir cancerclass.buildbin-libdir && /Users/biocbuild/BBS/utils/build-universal.sh cancerclass_1.46.0.tar.gz /Library/Frameworks/R.framework/Resources/bin/R cancerclass.buildbin-libdir StartedAt: 2024-04-16 11:09:47 -0400 (Tue, 16 Apr 2024) EndedAt: 2024-04-16 11:10:03 -0400 (Tue, 16 Apr 2024) EllapsedTime: 16.5 seconds RetCode: 0 Status: OK PackageFile: cancerclass_1.46.0.tgz PackageFileSize: 1.627 MiB