Package: cancerclass Version: 1.46.0 Command: /home/biocbuild/R/R-4.3.1/bin/R CMD INSTALL cancerclass StartedAt: 2023-11-01 20:06:38 -0000 (Wed, 01 Nov 2023) EndedAt: 2023-11-01 20:06:53 -0000 (Wed, 01 Nov 2023) EllapsedTime: 14.9 seconds RetCode: 0 Status: OK