Package: cTRAP Version: 1.20.1 Command: F:\biocbuild\bbs-3.18-bioc\R\bin\R.exe CMD INSTALL cTRAP StartedAt: 2024-04-15 16:45:46 -0400 (Mon, 15 Apr 2024) EndedAt: 2024-04-15 16:46:34 -0400 (Mon, 15 Apr 2024) EllapsedTime: 47.9 seconds RetCode: 0 Status: OK