Package: cTRAP Version: 1.20.1 Command: chmod a+r cTRAP -R && F:\biocbuild\bbs-3.18-bioc\R\bin\R.exe CMD build --keep-empty-dirs --no-resave-data cTRAP StartedAt: 2024-04-15 17:50:05 -0400 (Mon, 15 Apr 2024) EndedAt: 2024-04-15 17:59:01 -0400 (Mon, 15 Apr 2024) EllapsedTime: 536.5 seconds RetCode: 0 Status: OK PackageFile: cTRAP_1.20.1.tar.gz PackageFileSize: 3.947 MiB