Package: cTRAP Version: 1.20.1 Command: rm -rf cTRAP.buildbin-libdir && mkdir cTRAP.buildbin-libdir && F:\biocbuild\bbs-3.18-bioc\R\bin\R.exe CMD INSTALL --build --library=cTRAP.buildbin-libdir cTRAP_1.20.1.tar.gz StartedAt: 2024-04-16 06:52:26 -0400 (Tue, 16 Apr 2024) EndedAt: 2024-04-16 06:53:16 -0400 (Tue, 16 Apr 2024) EllapsedTime: 50.3 seconds RetCode: 0 Status: OK PackageFile: cTRAP_1.20.1.zip PackageFileSize: 5.187 MiB