Package: cTRAP Version: 1.20.1 Command: /home/biocbuild/bbs-3.18-bioc/R/bin/R CMD check --install=check:cTRAP.install-out.txt --library=/home/biocbuild/bbs-3.18-bioc/R/site-library --timings cTRAP_1.20.1.tar.gz StartedAt: 2024-04-15 21:43:45 -0400 (Mon, 15 Apr 2024) EndedAt: 2024-04-15 21:59:43 -0400 (Mon, 15 Apr 2024) EllapsedTime: 958.1 seconds RetCode: 0 Status: OK CheckDir: cTRAP.Rcheck Warnings: 0