Package: cTRAP Version: 1.20.1 Command: /home/biocbuild/bbs-3.18-bioc/R/bin/R CMD build --keep-empty-dirs --no-resave-data cTRAP StartedAt: 2024-04-15 16:40:55 -0400 (Mon, 15 Apr 2024) EndedAt: 2024-04-15 16:43:57 -0400 (Mon, 15 Apr 2024) EllapsedTime: 181.0 seconds RetCode: 0 Status: OK PackageFile: cTRAP_1.20.1.tar.gz PackageFileSize: 4.839 MiB