Package: cTRAP Version: 1.20.0 Command: /home/biocbuild/R/R-4.3.1/bin/R CMD check --install=check:cTRAP.install-out.txt --library=/home/biocbuild/R/R-4.3.1/site-library --no-vignettes --timings cTRAP_1.20.0.tar.gz StartedAt: 2023-11-02 09:42:03 -0000 (Thu, 02 Nov 2023) EndedAt: 2023-11-02 09:53:27 -0000 (Thu, 02 Nov 2023) EllapsedTime: 683.3 seconds RetCode: 1 Status: ERROR CheckDir: cTRAP.Rcheck Warnings: NA