Package: bumphunter Version: 1.44.0 Command: /Library/Frameworks/R.framework/Resources/bin/R CMD check --install=check:bumphunter.install-out.txt --library=/Library/Frameworks/R.framework/Resources/library --no-vignettes --timings bumphunter_1.44.0.tar.gz StartedAt: 2024-03-03 19:22:08 -0500 (Sun, 03 Mar 2024) EndedAt: 2024-03-03 19:31:50 -0500 (Sun, 03 Mar 2024) EllapsedTime: 581.5 seconds RetCode: 0 Status: OK CheckDir: bumphunter.Rcheck Warnings: 0