Package: bumphunter Version: 1.44.0 Command: rm -rf bumphunter.buildbin-libdir && mkdir bumphunter.buildbin-libdir && /Users/biocbuild/BBS/utils/build-universal.sh bumphunter_1.44.0.tar.gz /Library/Frameworks/R.framework/Resources/bin/R bumphunter.buildbin-libdir StartedAt: 2024-03-04 00:32:00 -0500 (Mon, 04 Mar 2024) EndedAt: 2024-03-04 00:32:58 -0500 (Mon, 04 Mar 2024) EllapsedTime: 57.6 seconds RetCode: 0 Status: OK PackageFile: bumphunter_1.44.0.tgz PackageFileSize: 4.452 MiB