Package: bugsigdbr Version: 1.8.4 Command: F:\biocbuild\bbs-3.18-bioc\R\bin\R.exe CMD INSTALL bugsigdbr StartedAt: 2024-04-15 15:51:39 -0400 (Mon, 15 Apr 2024) EndedAt: 2024-04-15 15:51:44 -0400 (Mon, 15 Apr 2024) EllapsedTime: 5.1 seconds RetCode: 0 Status: OK