Package: bugsigdbr Version: 1.8.4 Command: chmod a+r bugsigdbr -R && F:\biocbuild\bbs-3.18-bioc\R\bin\R.exe CMD build --keep-empty-dirs --no-resave-data bugsigdbr StartedAt: 2024-04-15 17:23:03 -0400 (Mon, 15 Apr 2024) EndedAt: 2024-04-15 17:24:28 -0400 (Mon, 15 Apr 2024) EllapsedTime: 84.3 seconds RetCode: 0 Status: OK PackageFile: bugsigdbr_1.8.4.tar.gz PackageFileSize: 328.4 KiB