Package: bugsigdbr Version: 1.8.4 Command: rm -rf bugsigdbr.buildbin-libdir && mkdir bugsigdbr.buildbin-libdir && F:\biocbuild\bbs-3.18-bioc\R\bin\R.exe CMD INSTALL --build --library=bugsigdbr.buildbin-libdir bugsigdbr_1.8.4.tar.gz StartedAt: 2024-04-16 06:44:33 -0400 (Tue, 16 Apr 2024) EndedAt: 2024-04-16 06:44:40 -0400 (Tue, 16 Apr 2024) EllapsedTime: 7.2 seconds RetCode: 0 Status: OK PackageFile: bugsigdbr_1.8.4.zip PackageFileSize: 362.6 KiB