Package: bugsigdbr Version: 1.8.4 Command: /Library/Frameworks/R.framework/Resources/bin/R CMD INSTALL bugsigdbr StartedAt: 2024-04-15 15:23:30 -0400 (Mon, 15 Apr 2024) EndedAt: 2024-04-15 15:23:37 -0400 (Mon, 15 Apr 2024) EllapsedTime: 6.9 seconds RetCode: 0 Status: OK