Package: branchpointer Version: 1.28.0 Command: /home/biocbuild/R/R-4.3.1/bin/R CMD build --keep-empty-dirs --no-resave-data branchpointer StartedAt: 2023-11-01 22:54:15 -0000 (Wed, 01 Nov 2023) EndedAt: 2023-11-01 22:55:58 -0000 (Wed, 01 Nov 2023) EllapsedTime: 103.1 seconds RetCode: 0 Status: OK PackageFile: branchpointer_1.28.0.tar.gz PackageFileSize: 4.782 MiB