Package: brainflowprobes Version: 1.16.0 Command: rm -rf brainflowprobes.buildbin-libdir && mkdir brainflowprobes.buildbin-libdir && F:\biocbuild\bbs-3.18-bioc\R\bin\R.exe CMD INSTALL --build --library=brainflowprobes.buildbin-libdir brainflowprobes_1.16.0.tar.gz StartedAt: 2024-04-16 06:43:59 -0400 (Tue, 16 Apr 2024) EndedAt: 2024-04-16 06:45:13 -0400 (Tue, 16 Apr 2024) EllapsedTime: 74.5 seconds RetCode: 0 Status: OK PackageFile: brainflowprobes_1.16.0.zip PackageFileSize: 1.775 MiB