Package: brainflowprobes Version: 1.16.0 Command: /home/biocbuild/bbs-3.18-bioc/R/bin/R CMD INSTALL brainflowprobes StartedAt: 2024-04-15 15:51:45 -0400 (Mon, 15 Apr 2024) EndedAt: 2024-04-15 15:52:38 -0400 (Mon, 15 Apr 2024) EllapsedTime: 53.2 seconds RetCode: 0 Status: OK