Package: brainflowprobes Version: 1.16.0 Command: /Library/Frameworks/R.framework/Resources/bin/R CMD INSTALL brainflowprobes StartedAt: 2024-04-15 16:42:42 -0400 (Mon, 15 Apr 2024) EndedAt: 2024-04-15 16:44:28 -0400 (Mon, 15 Apr 2024) EllapsedTime: 106.0 seconds RetCode: 0 Status: OK