Package: borealis Version: 1.6.0 Command: /Library/Frameworks/R.framework/Resources/bin/R CMD build --keep-empty-dirs --no-resave-data borealis StartedAt: 2024-03-03 16:05:08 -0500 (Sun, 03 Mar 2024) EndedAt: 2024-03-03 16:07:21 -0500 (Sun, 03 Mar 2024) EllapsedTime: 133.0 seconds RetCode: 0 Status: OK PackageFile: borealis_1.6.0.tar.gz PackageFileSize: 418 KiB