Package: bnem Version: 1.10.0 Command: rm -rf bnem.buildbin-libdir && mkdir bnem.buildbin-libdir && F:\biocbuild\bbs-3.18-bioc\R\bin\R.exe CMD INSTALL --build --library=bnem.buildbin-libdir bnem_1.10.0.tar.gz StartedAt: 2024-04-16 06:43:48 -0400 (Tue, 16 Apr 2024) EndedAt: 2024-04-16 06:44:36 -0400 (Tue, 16 Apr 2024) EllapsedTime: 48.2 seconds RetCode: 0 Status: OK PackageFile: bnem_1.10.0.zip PackageFileSize: 1.304 MiB