Package: bnem Version: 1.10.0 Command: /Library/Frameworks/R.framework/Resources/bin/R CMD INSTALL bnem StartedAt: 2024-03-03 15:39:55 -0500 (Sun, 03 Mar 2024) EndedAt: 2024-03-03 15:40:46 -0500 (Sun, 03 Mar 2024) EllapsedTime: 50.6 seconds RetCode: 0 Status: OK