Package: bnem Version: 1.10.0 Command: rm -rf bnem.buildbin-libdir && mkdir bnem.buildbin-libdir && /Users/biocbuild/BBS/utils/build-universal.sh bnem_1.10.0.tar.gz /Library/Frameworks/R.framework/Resources/bin/R bnem.buildbin-libdir StartedAt: 2024-03-04 00:31:33 -0500 (Mon, 04 Mar 2024) EndedAt: 2024-03-04 00:32:26 -0500 (Mon, 04 Mar 2024) EllapsedTime: 53.0 seconds RetCode: 0 Status: OK PackageFile: bnem_1.10.0.tgz PackageFileSize: 1.893 MiB