Package: bnem Version: 1.10.0 Command: /home/biocbuild/R/R-4.3.1/bin/R CMD build --keep-empty-dirs --no-resave-data bnem StartedAt: 2023-11-01 22:51:44 -0000 (Wed, 01 Nov 2023) EndedAt: 2023-11-01 22:53:25 -0000 (Wed, 01 Nov 2023) EllapsedTime: 101.1 seconds RetCode: 0 Status: OK PackageFile: bnem_1.10.0.tar.gz PackageFileSize: 1.641 MiB