Package: bnbc Version: 1.24.2 Command: /home/biocbuild/bbs-3.18-bioc/R/bin/R CMD build --keep-empty-dirs --no-resave-data bnbc StartedAt: 2024-04-15 16:14:55 -0400 (Mon, 15 Apr 2024) EndedAt: 2024-04-15 16:16:25 -0400 (Mon, 15 Apr 2024) EllapsedTime: 90.1 seconds RetCode: 0 Status: OK PackageFile: bnbc_1.24.2.tar.gz PackageFileSize: 4.152 MiB