Package: bnbc Version: 1.24.2 Command: /Library/Frameworks/R.framework/Resources/bin/R CMD check --install=check:bnbc.install-out.txt --library=/Library/Frameworks/R.framework/Resources/library --no-vignettes --timings bnbc_1.24.2.tar.gz StartedAt: 2024-04-16 00:03:10 -0400 (Tue, 16 Apr 2024) EndedAt: 2024-04-16 00:13:40 -0400 (Tue, 16 Apr 2024) EllapsedTime: 630.3 seconds RetCode: 0 Status: OK CheckDir: bnbc.Rcheck Warnings: 0