Package: bluster Version: 1.12.0 Command: F:\biocbuild\bbs-3.18-bioc\R\bin\R.exe CMD INSTALL bluster StartedAt: 2024-04-15 15:57:43 -0400 (Mon, 15 Apr 2024) EndedAt: 2024-04-15 15:58:25 -0400 (Mon, 15 Apr 2024) EllapsedTime: 41.5 seconds RetCode: 0 Status: OK