Package: bluster Version: 1.12.0 Command: rm -rf bluster.buildbin-libdir && mkdir bluster.buildbin-libdir && F:\biocbuild\bbs-3.18-bioc\R\bin\R.exe CMD INSTALL --build --library=bluster.buildbin-libdir bluster_1.12.0.tar.gz StartedAt: 2024-04-16 06:43:45 -0400 (Tue, 16 Apr 2024) EndedAt: 2024-04-16 06:44:26 -0400 (Tue, 16 Apr 2024) EllapsedTime: 41.3 seconds RetCode: 0 Status: OK PackageFile: bluster_1.12.0.zip PackageFileSize: 2.417 MiB