Package: bluster Version: 1.12.0 Command: rm -rf bluster.buildbin-libdir && mkdir bluster.buildbin-libdir && /Users/biocbuild/BBS/utils/build-universal.sh bluster_1.12.0.tar.gz /Library/Frameworks/R.framework/Resources/bin/R bluster.buildbin-libdir StartedAt: 2024-03-04 00:31:29 -0500 (Mon, 04 Mar 2024) EndedAt: 2024-03-04 00:32:07 -0500 (Mon, 04 Mar 2024) EllapsedTime: 38.5 seconds RetCode: 0 Status: OK PackageFile: bluster_1.12.0.tgz PackageFileSize: 3.309 MiB