Package: blima Version: 1.36.0 Command: /Library/Frameworks/R.framework/Resources/bin/R CMD INSTALL blima StartedAt: 2024-03-03 15:22:50 -0500 (Sun, 03 Mar 2024) EndedAt: 2024-03-03 15:23:26 -0500 (Sun, 03 Mar 2024) EllapsedTime: 36.6 seconds RetCode: 0 Status: OK