Package: blacksheepr Version: 1.16.0 Command: chmod a+r blacksheepr -R && F:\biocbuild\bbs-3.18-bioc\R\bin\R.exe CMD build --keep-empty-dirs --no-resave-data blacksheepr StartedAt: 2024-04-15 17:19:41 -0400 (Mon, 15 Apr 2024) EndedAt: 2024-04-15 17:22:28 -0400 (Mon, 15 Apr 2024) EllapsedTime: 167.6 seconds RetCode: 0 Status: OK PackageFile: blacksheepr_1.16.0.tar.gz PackageFileSize: 3.977 MiB