Package: blacksheepr Version: 1.16.0 Command: /home/biocbuild/R/R-4.3.1/bin/R CMD INSTALL blacksheepr StartedAt: 2023-11-01 20:51:55 -0000 (Wed, 01 Nov 2023) EndedAt: 2023-11-01 20:52:30 -0000 (Wed, 01 Nov 2023) EllapsedTime: 34.9 seconds RetCode: 0 Status: OK