Package: blacksheepr Version: 1.16.0 Command: /home/biocbuild/R/R-4.3.1/bin/R CMD check --install=check:blacksheepr.install-out.txt --library=/home/biocbuild/R/R-4.3.1/site-library --no-vignettes --timings blacksheepr_1.16.0.tar.gz StartedAt: 2023-11-02 08:50:14 -0000 (Thu, 02 Nov 2023) EndedAt: 2023-11-02 08:55:12 -0000 (Thu, 02 Nov 2023) EllapsedTime: 298.6 seconds RetCode: 1 Status: ERROR CheckDir: blacksheepr.Rcheck Warnings: NA