Package: biscuiteer Version: 1.16.0 Command: /Library/Frameworks/R.framework/Resources/bin/R CMD build --keep-empty-dirs --no-resave-data biscuiteer StartedAt: 2024-04-15 17:18:36 -0400 (Mon, 15 Apr 2024) EndedAt: 2024-04-15 17:22:40 -0400 (Mon, 15 Apr 2024) EllapsedTime: 244.1 seconds RetCode: 0 Status: OK PackageFile: biscuiteer_1.16.0.tar.gz PackageFileSize: 4.762 MiB