Package: biotmle Version: 1.26.0 Command: /Library/Frameworks/R.framework/Resources/bin/R CMD INSTALL biotmle StartedAt: 2024-04-15 16:31:23 -0400 (Mon, 15 Apr 2024) EndedAt: 2024-04-15 16:32:17 -0400 (Mon, 15 Apr 2024) EllapsedTime: 54.8 seconds RetCode: 0 Status: OK