Package: biotmle Version: 1.26.0 Command: /Library/Frameworks/R.framework/Resources/bin/R CMD build --keep-empty-dirs --no-resave-data biotmle StartedAt: 2024-04-15 17:17:30 -0400 (Mon, 15 Apr 2024) EndedAt: 2024-04-15 17:20:29 -0400 (Mon, 15 Apr 2024) EllapsedTime: 178.6 seconds RetCode: 0 Status: OK PackageFile: biotmle_1.26.0.tar.gz PackageFileSize: 315.3 KiB