Package: biotmle Version: 1.26.0 Command: rm -rf biotmle.buildbin-libdir && mkdir biotmle.buildbin-libdir && /Users/biocbuild/BBS/utils/build-universal.sh biotmle_1.26.0.tar.gz /Library/Frameworks/R.framework/Resources/bin/R biotmle.buildbin-libdir StartedAt: 2024-04-16 11:06:41 -0400 (Tue, 16 Apr 2024) EndedAt: 2024-04-16 11:07:46 -0400 (Tue, 16 Apr 2024) EllapsedTime: 65.0 seconds RetCode: 0 Status: OK PackageFile: biotmle_1.26.0.tgz PackageFileSize: 365.2 KiB