Package: biotmle Version: 1.26.0 Command: /Library/Frameworks/R.framework/Resources/bin/R CMD INSTALL biotmle StartedAt: 2024-03-03 15:41:31 -0500 (Sun, 03 Mar 2024) EndedAt: 2024-03-03 15:42:07 -0500 (Sun, 03 Mar 2024) EllapsedTime: 36.1 seconds RetCode: 0 Status: OK