Package: biotmle Version: 1.26.0 Command: rm -rf biotmle.buildbin-libdir && mkdir biotmle.buildbin-libdir && /Users/biocbuild/BBS/utils/build-universal.sh biotmle_1.26.0.tar.gz /Library/Frameworks/R.framework/Resources/bin/R biotmle.buildbin-libdir StartedAt: 2024-03-04 00:31:21 -0500 (Mon, 04 Mar 2024) EndedAt: 2024-03-04 00:31:58 -0500 (Mon, 04 Mar 2024) EllapsedTime: 37.3 seconds RetCode: 0 Status: OK PackageFile: biotmle_1.26.0.tgz PackageFileSize: 357.9 KiB